BEGIN:VCALENDAR
VERSION:2.0
PRODID:-//Kazalište Ad Astra - ECPv6.15.17.1//NONSGML v1.0//EN
CALSCALE:GREGORIAN
METHOD:PUBLISH
X-ORIGINAL-URL:https://kazaliste-adastra.hr
X-WR-CALDESC:Događaji za Kazalište Ad Astra
REFRESH-INTERVAL;VALUE=DURATION:PT1H
X-Robots-Tag:noindex
X-PUBLISHED-TTL:PT1H
BEGIN:VTIMEZONE
TZID:UTC
BEGIN:STANDARD
TZOFFSETFROM:+0000
TZOFFSETTO:+0000
TZNAME:UTC
DTSTART:20250101T000000
END:STANDARD
END:VTIMEZONE
BEGIN:VEVENT
DTSTART;TZID=UTC:20260522T080000
DTEND;TZID=UTC:20260524T170000
DTSTAMP:20260422T224956
CREATED:20260314T234644Z
LAST-MODIFIED:20260315T092225Z
UID:2858-1779436800-1779642000@kazaliste-adastra.hr
SUMMARY:15. Dječji kazališni festival u Belom Manastiru
DESCRIPTION:Predstava Sljedeći 				\n				\n				\n				\n																														\n				\n				\n				\n									Kazališna predstava „Sljedeći“ donosi snažnu i emocionalno intenzivnu priču temeljenu na tekstu američkog dramatičara Terrencea McNallyja. Riječ je o dramskom djelu namijenjenom odrasloj publici koje kroz intimnu i napetu situaciju istražuje teme osobne slobode\, identiteta i odnosa pojedinca prema društvenim pravilima i očekivanjima. Radnja predstave prati susret pojedinca sa sustavom i trenutak u kojem se mora suočiti s vlastitim uvjerenjima\, strahovima i moralnim odlukama. Kroz dijalog i razvoj situacije otvaraju se pitanja hrabrosti\, osobnog izbora i odgovornosti prema vlastitim vrijednostima\, dok se publika suočava s univerzalnim dilemama koje nadilaze vrijeme i društveni kontekst. Predstava je rađena prema tekstu Terrencea McNallyja\, a režiju potpisuje Daniela Herman. Izvedba donosi snažan kazališni izraz\, fokusiran na glumačku igru i atmosferu koja gledatelje uvodi u duboko promišljanje o osobnim i društvenim granicama.
URL:https://kazaliste-adastra.hr/najava/15-djecji-kazalisni-festival-u-belom-manastiru/
CATEGORIES:Predstave
ATTACH;FMTTYPE=image/jpeg:https://kazaliste-adastra.hr/wp-content/uploads/2026/03/kazaliste-33-1536x1152-1.jpg
ORGANIZER;CN="Kazali%C5%A1te Ad Astra":MAILTO:kazalisteadastra@gmail.com
END:VEVENT
END:VCALENDAR